BEGIN:VCALENDAR
PRODID:-//event//iCal4j 1.0//EN
CALSCALE:GREGORIAN
BEGIN:VEVENT
DTSTAMP:20260424T122632Z
DTSTART:20211014T210000Z
DTEND:20211014T223000Z
SUMMARY:20211014-icwg-meeting
LOCATION:
END:VEVENT
END:VCALENDAR
